BEGIN:VCALENDAR
VERSION:2.0
PRODID:-//ChamberMaster//Event Calendar 2.0//EN
METHOD:PUBLISH
X-PUBLISHED-TTL:P1H
REFRESH-INTERVAL:P1H
CALSCALE:GREGORIAN
BEGIN:VTIMEZONE
TZID:America/Phoenix
BEGIN:DAYLIGHT
DTSTART:20070311T020000
TZOFFSETFROM:-0700
TZOFFSETTO:-0700
TZNAME:(UTC-07:00) Arizona
END:DAYLIGHT
BEGIN:STANDARD
DTSTART:20071104T020000
TZOFFSETFROM:-0700
TZOFFSETTO:-0700
TZNAME:(UTC-07:00) Arizona
END:STANDARD
END:VTIMEZONE
BEGIN:VEVENT
DTSTART;TZID=America/Phoenix:20260522T070000
DTEND;TZID=America/Phoenix:20260522T140000
X-MICROSOFT-CDO-ALLDAYEVENT:FALSE
SUMMARY:2026 Sparky Classic - Hispanic Business Alumni ASU Chapter Golf Tournament
DESCRIPTION:Join us for the 7th Annual Sparky Classic presented by the Hispanic Business Alumni Chapter at ASU.\n\nGolf Tournament helps to fundraise and support the scholarships provided to select ASU W.P. Carey students.
X-ALT-DESC;FMTTYPE=text/html:Join us for the 7th Annual Sparky Classic presented by the Hispanic Business Alumni Chapter at ASU.\n\nGolf Tournament helps to fundraise and support the scholarships provided to select ASU W.P. Carey students.
LOCATION:8000 S\, Arizona Grand Pkwy Phoenix AZ 85044
UID:e.404.1446644
SEQUENCE:3
DTSTAMP:20260422T131624Z
URL:https://arizonahispanicchamberofcommerce.growthzoneapp.com/business-success-webinars/Details/2026-sparky-classic-hispanic-business-alumni-asu-chapter-golf-tournament-1713418?sourceTypeId=Hub
END:VEVENT
END:VCALENDAR
